BEGIN:VCALENDAR
VERSION:2.0
PRODID:-//AudioTheme 1.8.3
BEGIN:VEVENT
UID:http://www.stuartrossjohnson.com/?post_type=audiotheme_gig&#038;p=520
URL:http://www.stuartrossjohnson.com/shows/bagitos-bagel-and-burrito-cafe/
DTSTART;TZID=GMT:20150718T220000
SUMMARY:Bagitos Bagel and Burrito Cafe
LOCATION:Bagitos Bagel and Burrito Cafe
END:VEVENT
END:VCALENDAR