BEGIN:VCALENDAR
VERSION:2.0
PRODID:-//AudioTheme 1.8.3
BEGIN:VEVENT
UID:http://www.stuartrossjohnson.com/?post_type=audiotheme_gig&#038;p=605
URL:http://www.stuartrossjohnson.com/shows/canoe-club-2/
DTSTART;TZID=GMT:20151007T000000
SUMMARY:Canoe Club
LOCATION:Canoe Club Hanover NH
END:VEVENT
END:VCALENDAR