BEGIN:VCALENDAR
VERSION:2.0
PRODID:-//AudioTheme 1.8.3
BEGIN:VEVENT
UID:http://www.stuartrossjohnson.com/?post_type=audiotheme_gig&#038;p=606
URL:http://www.stuartrossjohnson.com/shows/canoe-club-3/
DTSTART;TZID=GMT:20151030T000000
SUMMARY:Canoe Club
DESCRIPTION:Since it's the day before Halloween I'll play some spooky music \;)
LOCATION:Canoe Club Hanover NH
END:VEVENT
END:VCALENDAR