BEGIN:VCALENDAR
VERSION:2.0
PRODID:-//AudioTheme 1.8.3
BEGIN:VEVENT
UID:http://www.stuartrossjohnson.com/?post_type=audiotheme_gig&#038;p=753
URL:http://www.stuartrossjohnson.com/shows/canoe-club-hanover-new-hampshire/
DTSTART;TZID=GMT:20160216T000000
SUMMARY:Canoe Club Hanover New Hampshire
LOCATION:Canoe Club Hanover NH
END:VEVENT
END:VCALENDAR