BEGIN:VCALENDAR
VERSION:2.0
PRODID:-//AudioTheme 1.8.3
BEGIN:VEVENT
UID:http://www.stuartrossjohnson.com/?post_type=audiotheme_gig&#038;p=568
URL:http://www.stuartrossjohnson.com/shows/canoe-club/
DTSTART;TZID=GMT:20150901T000000
SUMMARY:Canoe Club
DESCRIPTION:Come out and enjoy some live music at the Canoe Club. I'll be playing a mixed set of Classical\, Jazz\, Americana\, and more!
LOCATION:Canoe Club Hanover NH
END:VEVENT
END:VCALENDAR