BEGIN:VCALENDAR
VERSION:2.0
PRODID:-//AudioTheme 1.8.3
BEGIN:VEVENT
UID:http://www.stuartrossjohnson.com/?post_type=audiotheme_gig&#038;p=562
URL:http://www.stuartrossjohnson.com/shows/fritz-in-keene/
DTSTART;TZID=GMT:20150730T223000
SUMMARY:Fritz in Keene
DESCRIPTION:I will be playing a mixed set of originals\, covers and instrumentals. I might even throw in a hip hop cover \;) 
LOCATION:Fritz
END:VEVENT
END:VCALENDAR