BEGIN:VCALENDAR
VERSION:2.0
PRODID:-//AudioTheme 1.8.3
BEGIN:VEVENT
UID:http://www.stuartrossjohnson.com/?post_type=audiotheme_gig&#038;p=565
URL:http://www.stuartrossjohnson.com/shows/lincoln-inn-and-restaurant/
DTSTART;TZID=GMT:20150722T000000
SUMMARY:Lincoln Inn and Restaurant
DESCRIPTION:Come out to the Lincoln Inn and enjoy some live music! I'll be playing some new songs and can't wait to share my usual music. 
LOCATION:Lincoln Inn Woodstock NH
END:VEVENT
END:VCALENDAR