BEGIN:VCALENDAR
VERSION:2.0
PRODID:-//AudioTheme 1.8.3
BEGIN:VEVENT
UID:http://www.stuartrossjohnson.com/?post_type=audiotheme_gig&#038;p=645
URL:http://www.stuartrossjohnson.com/shows/melaza-bistro/
DTSTART;TZID=GMT:20150907T000000
SUMMARY:Melaza Bistro
DESCRIPTION:There will be $5 mojitos and $3 empanadas! I know what I'm having! Come enjoy some Spanish\, folk and instrumental music!
LOCATION:Melaza Bistro Woodstock VT
END:VEVENT
END:VCALENDAR