BEGIN:VCALENDAR
VERSION:2.0
PRODID:-//AudioTheme 1.8.3
BEGIN:VEVENT
UID:http://www.stuartrossjohnson.com/?post_type=audiotheme_gig&#038;p=752
URL:http://www.stuartrossjohnson.com/shows/music-at-the-canoe-club/
DTSTART;TZID=GMT:20160124T000000
SUMMARY:Music at the Canoe Club
DESCRIPTION:I will be playing my usual Spanish Classical\, Flamenco\, originals and covers. A couple new covers by the Avett Brothers and Bob Dylan
LOCATION:Canoe Club Hanover NH
END:VEVENT
END:VCALENDAR