BEGIN:VCALENDAR
VERSION:2.0
PRODID:-//AudioTheme 1.8.3
BEGIN:VEVENT
UID:http://www.stuartrossjohnson.com/?post_type=audiotheme_gig&#038;p=647
URL:http://www.stuartrossjohnson.com/shows/private-dinner-party/
DTSTART;TZID=GMT:20150919T000000
SUMMARY:Private Dinner Party
LOCATION:Lake Sunapee
END:VEVENT
END:VCALENDAR