BEGIN:VCALENDAR
VERSION:2.0
PRODID:-//AudioTheme 1.8.3
BEGIN:VEVENT
UID:http://www.stuartrossjohnson.com/?post_type=audiotheme_gig&#038;p=572
URL:http://www.stuartrossjohnson.com/shows/the-lincoln-inn/
DTSTART;TZID=GMT:20150805T000000
SUMMARY:The Lincoln Inn
LOCATION:The Lincoln Inn Woodstock Vermont
END:VEVENT
END:VCALENDAR